BEGIN:VCALENDAR
VERSION:2.0
PRODID:-//Great Commission Baptist Church - ECPv6.2.9//NONSGML v1.0//EN
CALSCALE:GREGORIAN
METHOD:PUBLISH
X-WR-CALNAME:Great Commission Baptist Church
X-ORIGINAL-URL:https://greatcommissionbaptistchurch.com
X-WR-CALDESC:Events for Great Commission Baptist Church
REFRESH-INTERVAL;VALUE=DURATION:PT1H
X-Robots-Tag:noindex
X-PUBLISHED-TTL:PT1H
BEGIN:VTIMEZONE
TZID:UTC
BEGIN:STANDARD
TZOFFSETFROM:+0000
TZOFFSETTO:+0000
TZNAME:UTC
DTSTART:20230101T000000
END:STANDARD
END:VTIMEZONE
BEGIN:VEVENT
DTSTART;VALUE=DATE:20230815
DTEND;VALUE=DATE:20230820
DTSTAMP:20260417T121238
CREATED:20230815T050000Z
LAST-MODIFIED:20231109T020246Z
UID:95915-1692057600-1692489599@greatcommissionbaptistchurch.com
SUMMARY:Youth Mission Trip
DESCRIPTION:Put your description here.
URL:https://greatcommissionbaptistchurch.com/event/youth-mission-trip/
CATEGORIES:Christian Education,Youth
ATTACH;FMTTYPE=image/jpeg:https://greatcommissionbaptistchurch.com/wp-content/uploads/2023/11/youth-smiling.jpg
END:VEVENT
END:VCALENDAR